BEGIN:VCALENDAR
VERSION:2.0
PRODID:-//ACCCRUS - ECPv6.11.0.1//NONSGML v1.0//EN
CALSCALE:GREGORIAN
METHOD:PUBLISH
X-WR-CALNAME:ACCCRUS
X-ORIGINAL-URL:https://acccrus.org
X-WR-CALDESC:Events for ACCCRUS
REFRESH-INTERVAL;VALUE=DURATION:PT1H
X-Robots-Tag:noindex
X-PUBLISHED-TTL:PT1H
BEGIN:VTIMEZONE
TZID:UTC
BEGIN:STANDARD
TZOFFSETFROM:+0000
TZOFFSETTO:+0000
TZNAME:UTC
DTSTART:20240101T000000
END:STANDARD
END:VTIMEZONE
BEGIN:VEVENT
DTSTART;TZID=UTC:20240626T000000
DTEND;TZID=UTC:20240629T000000
DTSTAMP:20260425T032953
CREATED:20230926T084403Z
LAST-MODIFIED:20231102T210236Z
UID:24281-1719360000-1719619200@acccrus.org
SUMMARY:ACCCRUS(23rd Annual Convention)
DESCRIPTION:African Conference of Catholic Clergy and Religious in the United States\,  The 23rd Annual Convention.
URL:https://acccrus.org/event/african-conference-of-catholic-clergy-and-religious-in-the-united-states-23rd-annual-convention/
LOCATION:houston\, texas\, houston\, TX\, United States
CATEGORIES:Convention
ATTACH;FMTTYPE=image/jpeg:https://acccrus.org/wp-content/uploads/2023/09/Save-Date-2024.jpg
ORGANIZER;CN="ACCCRUS":MAILTO:acccrus@gmail.com
END:VEVENT
END:VCALENDAR